  BEGIN:VCALENDAR
VERSION:2.0
PRODID:-//Best Read Guide Smoky Mountains - ECPv6.6.4.2//NONSGML v1.0//EN
CALSCALE:GREGORIAN
METHOD:PUBLISH
X-WR-CALNAME:Best Read Guide Smoky Mountains
X-ORIGINAL-URL:https://bestreadguidesmokymountains.com
X-WR-CALDESC:Events for Best Read Guide Smoky Mountains
REFRESH-INTERVAL;VALUE=DURATION:PT1H
X-Robots-Tag:noindex
X-PUBLISHED-TTL:PT1H
BEGIN:VTIMEZONE
TZID:America/New_York
BEGIN:DAYLIGHT
TZOFFSETFROM:-0500
TZOFFSETTO:-0400
TZNAME:EDT
DTSTART:20250309T070000
END:DAYLIGHT
BEGIN:STANDARD
TZOFFSETFROM:-0400
TZOFFSETTO:-0500
TZNAME:EST
DTSTART:20251102T060000
END:STANDARD
END:VTIMEZONE
BEGIN:VEVENT
DTSTART;VALUE=DATE:20251108
DTEND;VALUE=DATE:20251110
DTSTAMP:20260422T161529
CREATED:20251016T151749Z
LAST-MODIFIED:20251016T151811Z
UID:14429-1762560000-1762732799@bestreadguidesmokymountains.com
SUMMARY:Appalachian Renaissance Faire
DESCRIPTION:Appalachian Renaissance Faire\nJourney back in time to a world of knights\, nobles\, and artisans at the Fall Faire Weekend hosted by the Appalachian Renaissance Faire at their new location – 722 E. Dumplin Valley Rd\, Kodak\, TN. On November 8 & 9 from 10:00 AM to 5:00 PM\, the grounds come alive with music\, costumed performers\, live jousting\, and a bustling marketplace brimming with handcrafted treasures. \nGuests can enjoy thrilling reenactments\, street performances\, and interactive fun that bring the magic of the Renaissance to life. Whether you’re a history lover\, fantasy enthusiast\, or simply looking for a whimsical family adventure\, the Fall Faire Weekend promises a weekend of wonder\, laughter\, and unforgettable memories in the heart of East Tennessee.
URL:https://bestreadguidesmokymountains.com/event/appalachian-renaissance-faire/
LOCATION:TN
CATEGORIES:Smoky Mountain Area
END:VEVENT
END:VCALENDAR