  BEGIN:VCALENDAR
VERSION:2.0
PRODID:-//Best Read Guide Smoky Mountains - ECPv6.6.4.2//NONSGML v1.0//EN
CALSCALE:GREGORIAN
METHOD:PUBLISH
X-ORIGINAL-URL:https://bestreadguidesmokymountains.com
X-WR-CALDESC:Events for Best Read Guide Smoky Mountains
REFRESH-INTERVAL;VALUE=DURATION:PT1H
X-Robots-Tag:noindex
X-PUBLISHED-TTL:PT1H
BEGIN:VTIMEZONE
TZID:America/New_York
BEGIN:DAYLIGHT
TZOFFSETFROM:-0500
TZOFFSETTO:-0400
TZNAME:EDT
DTSTART:20250309T070000
END:DAYLIGHT
BEGIN:STANDARD
TZOFFSETFROM:-0400
TZOFFSETTO:-0500
TZNAME:EST
DTSTART:20251102T060000
END:STANDARD
END:VTIMEZONE
BEGIN:VEVENT
DTSTART;TZID=America/New_York:20251106T150000
DTEND;TZID=America/New_York:20251106T210000
DTSTAMP:20260422T193225
CREATED:20251015T200259Z
LAST-MODIFIED:20251016T150235Z
UID:14406-1762441200-1762462800@bestreadguidesmokymountains.com
SUMMARY:Pigeon Forge Winterfest Kickoff
DESCRIPTION:Pigeon Forge Winterfest Kickoff\nNov 06\, 2025\nKick off Winterfest in Pigeon Forge by enjoying the festivities put on at Patriot Park. This event runs from 3-9pm\, and you can enjoy the first night of the lights being on for the magical holiday season!
URL:https://bestreadguidesmokymountains.com/event/pigeon-forge-winterfest-kickoff/
LOCATION:Patriot Park\, Pigeon Forge\, TN\, United States
CATEGORIES:Things To Do Pigeon Forge
END:VEVENT
BEGIN:VEVENT
DTSTART;TZID=America/New_York:20251106T170000
DTEND;TZID=America/New_York:20251106T200000
DTSTAMP:20260422T193225
CREATED:20251015T200106Z
LAST-MODIFIED:20251015T200106Z
UID:14405-1762448400-1762459200@bestreadguidesmokymountains.com
SUMMARY:Gatlinburg Chili Cookoff & Winter Magic Kickoff
DESCRIPTION:Gatlinburg Chili Cookoff & Winter Magic Kickoff\nNov 06\, 2025\nGatlinburg Chili Cookoff & Winterfest Kickoff\, featuring live entertainment and homemade chili sampling. While the street event is free\, tickets for chili sampling start at $25. Event runs from 5pm til 8pm.
URL:https://bestreadguidesmokymountains.com/event/gatlinburg-chili-cookoff-winter-magic-kickoff/
LOCATION:Downtown Gatlinburg\, Gatlinburg\, TN\, United States
CATEGORIES:Things To Do Gatlinburg
END:VEVENT
END:VCALENDAR