  BEGIN:VCALENDAR
VERSION:2.0
PRODID:-//Best Read Guide Smoky Mountains - ECPv6.6.4.2//NONSGML v1.0//EN
CALSCALE:GREGORIAN
METHOD:PUBLISH
X-WR-CALNAME:Best Read Guide Smoky Mountains
X-ORIGINAL-URL:https://bestreadguidesmokymountains.com
X-WR-CALDESC:Events for Best Read Guide Smoky Mountains
REFRESH-INTERVAL;VALUE=DURATION:PT1H
X-Robots-Tag:noindex
X-PUBLISHED-TTL:PT1H
BEGIN:VTIMEZONE
TZID:UTC
BEGIN:STANDARD
TZOFFSETFROM:+0000
TZOFFSETTO:+0000
TZNAME:UTC
DTSTART:20240101T000000
END:STANDARD
END:VTIMEZONE
BEGIN:VEVENT
DTSTART;VALUE=DATE:20241101
DTEND;VALUE=DATE:20250121
DTSTAMP:20260424T091735
CREATED:20241118T231917Z
LAST-MODIFIED:20241118T232031Z
UID:12662-1730419200-1737417599@bestreadguidesmokymountains.com
SUMMARY:SkyLand’s Festival of Lights at The Ranch
DESCRIPTION:Light up your Christmas with over half a million lights that will be on display for SkyLand’s Festival of Lights at The Ranch Presented by Food City. This light festival starts with many extravagant light displays as you embark on a scenic chairlift ride to the top of our Ranch. Enjoy spectacular western and traditional light structures\, such as our 75’ Santa’s “Moo”ving Sleigh Ride\, Rodeo at The Ranch\, The Barnyard Posse\, The Nativity on the Mountain\, Ruckus on The Ranch\, and so much more.
URL:https://bestreadguidesmokymountains.com/event/skylands-festival-of-lights-at-the-ranch/
LOCATION:Skyland Ranch\, 1620 Parkway\, Sevierville\, 37862\, United States
END:VEVENT
END:VCALENDAR