  BEGIN:VCALENDAR
VERSION:2.0
PRODID:-//Best Read Guide Smoky Mountains - ECPv6.6.4.2//NONSGML v1.0//EN
CALSCALE:GREGORIAN
METHOD:PUBLISH
X-WR-CALNAME:Best Read Guide Smoky Mountains
X-ORIGINAL-URL:https://bestreadguidesmokymountains.com
X-WR-CALDESC:Events for Best Read Guide Smoky Mountains
REFRESH-INTERVAL;VALUE=DURATION:PT1H
X-Robots-Tag:noindex
X-PUBLISHED-TTL:PT1H
BEGIN:VTIMEZONE
TZID:UTC
BEGIN:STANDARD
TZOFFSETFROM:+0000
TZOFFSETTO:+0000
TZNAME:UTC
DTSTART:20240101T000000
END:STANDARD
END:VTIMEZONE
BEGIN:VEVENT
DTSTART;TZID=UTC:20240919T080000
DTEND;TZID=UTC:20240921T170000
DTSTAMP:20260422T182750
CREATED:20240405T230744Z
LAST-MODIFIED:20240405T230757Z
UID:11685-1726732800-1726938000@bestreadguidesmokymountains.com
SUMMARY:24th Annual Dumplin Valley Bluegrass Festival
DESCRIPTION:24th Annual Dumplin Valley Bluegrass Festival\nSeptember 19-21\, 2024\n\nPlease note\, the following is not allowed in the performance area: \n\n\nNO smoking  \n\n\nNO pets  \n\n\nNO glass containers \n\n\n​ \n\n\nLocated in beautiful East Tennessee near the Great Smoky Mountains National Park\, Gatlinburg\, Dollywood\, Sevierville\, Pigeon Forge\, and only 22 mi. from downtown Knoxville.  You can find us just off I-40 exit # 407at 525 East Dumplin Valley Road\, Kodak\, TN 37764. \n​ \n(For this year only there will be no potluck on Wed. night) \n\n\n15 Bands perform in our Covered Performance Area \n\n\nRain or shine shows start each day at noon and go until 11 pm \n\n\nPicking & Jamming all week \n\n\nSound provided by Blue Ridge Sound \n\n\nEmcee Freddy Smith  \n\n\nFood and Merchandise Vendors \n\n\nRestrooms/showers \n\n\nFREE Parking \n\n\nBring your own chair \n\n\nDid we mention LOTS of jamming \n\n\nCamping by Reservation only​​
URL:https://bestreadguidesmokymountains.com/event/24th-annual-dumplin-valley-bluegrass-festival/
LOCATION:TN
CATEGORIES:Things To Do Sevierville
END:VEVENT
BEGIN:VEVENT
DTSTART;TZID=UTC:20240920T180000
DTEND;TZID=UTC:20240921T200000
DTSTAMP:20260422T182750
CREATED:20240405T231103Z
LAST-MODIFIED:20240405T231103Z
UID:11686-1726855200-1726948800@bestreadguidesmokymountains.com
SUMMARY:Pigeon Forge Bluegrass Festival
DESCRIPTION:Pigeon Forge Bluegrass Festival\n\n\n\n\n\nDATES:\nSeptember 20th | September 21st \nSome of the best loved artists in all of Bluegrass music are featured at this spectacular two-day event in Pigeon Forge\, TN!
URL:https://bestreadguidesmokymountains.com/event/pigeon-forge-bluegrass-festival/
LOCATION:LeConte Center at Pigeon Forge\, United States
CATEGORIES:Things To Do Pigeon Forge
END:VEVENT
END:VCALENDAR