  BEGIN:VCALENDAR
VERSION:2.0
PRODID:-//Best Read Guide Smoky Mountains - ECPv6.6.4.2//NONSGML v1.0//EN
CALSCALE:GREGORIAN
METHOD:PUBLISH
X-WR-CALNAME:Best Read Guide Smoky Mountains
X-ORIGINAL-URL:https://bestreadguidesmokymountains.com
X-WR-CALDESC:Events for Best Read Guide Smoky Mountains
REFRESH-INTERVAL;VALUE=DURATION:PT1H
X-Robots-Tag:noindex
X-PUBLISHED-TTL:PT1H
BEGIN:VTIMEZONE
TZID:UTC
BEGIN:STANDARD
TZOFFSETFROM:+0000
TZOFFSETTO:+0000
TZNAME:UTC
DTSTART:20240101T000000
END:STANDARD
END:VTIMEZONE
BEGIN:VEVENT
DTSTART;VALUE=DATE:20240816
DTEND;VALUE=DATE:20240818
DTSTAMP:20260419T164955
CREATED:20240311T230202Z
LAST-MODIFIED:20260416T154718Z
UID:11482-1723766400-1723939199@bestreadguidesmokymountains.com
SUMMARY:Great Smoky Mountain Bronco Stampede
DESCRIPTION:GSM Bronco Stampede 2026 in the\nSmoky Mountains\nGet ready for one of the most exciting automotive events in the Southeast—GSM Bronco Stampede 2026 in the heart of the Smoky Mountains! This highly anticipated gathering brings together Ford Bronco enthusiasts from across the country for a thrilling weekend of off-road adventures\, scenic drives\, and unforgettable community experiences. \nSet against the stunning backdrop of East Tennessee\, the GSM Bronco Stampede offers the perfect mix of adrenaline and natural beauty. Participants can explore rugged mountain trails\, cruise along picturesque routes\, and show off their custom Broncos in a vibrant\, welcoming atmosphere. Whether you’re a seasoned off-roader or a first-time attendee\, there’s something for everyone to enjoy. \nThe event features guided trail rides\, vendor showcases\, Bronco displays\, and opportunities to connect with fellow enthusiasts who share a passion for adventure and the iconic Ford Bronco. Visitors will also love being just minutes away from top Smoky Mountain attractions\, shopping\, and dining in nearby Pigeon Forge and Gatlinburg. \nPlanning to attend the GSM Bronco Stampede 2026? Be sure to book your accommodations early\, as this popular event draws large crowds each year. From cozy cabins to convenient hotels\, the Smoky Mountains offer plenty of options for a comfortable stay. \nDon’t miss your chance to be part of the GSM Bronco Stampede 2026—where adventure meets community in one of the most beautiful destinations in the country. Start planning your Smoky Mountain getaway today and experience the ultimate Bronco event!
URL:https://bestreadguidesmokymountains.com/event/gsm-bronco-stampede-2026-smoky-mountains/
LOCATION:LeConte Center at Pigeon Forge\, United States
CATEGORIES:Smoky Mountain Car Shows
END:VEVENT
BEGIN:VEVENT
DTSTART;TZID=UTC:20240817T160000
DTEND;TZID=UTC:20240817T210000
DTSTAMP:20260419T164955
CREATED:20240405T191842Z
LAST-MODIFIED:20240405T191842Z
UID:11683-1723910400-1723928400@bestreadguidesmokymountains.com
SUMMARY:6th Annual GSM Hot Air Balloon Festival
DESCRIPTION:Great Smoky Mountains Hot Air Balloon Festival\nJoin us this August for a summertime spectacle\, when professional balloonist light up the evening sky with a beautiful balloon glow and spectacular tethered rides. The sky will be filled with a spectrum of color like never before\, against a backdrop of a breathtaking Tennessee Smoky Mountain sunset\, in beautiful Townsend\, Tennessee!
URL:https://bestreadguidesmokymountains.com/event/6th-annual-gsm-hot-air-balloon-festival/
LOCATION:Townsend\, Townsend\, TN\, 37882\, United States
CATEGORIES:Things To Do in Townsend
END:VEVENT
END:VCALENDAR