  BEGIN:VCALENDAR
VERSION:2.0
PRODID:-//Best Read Guide Smoky Mountains - ECPv6.6.4.2//NONSGML v1.0//EN
CALSCALE:GREGORIAN
METHOD:PUBLISH
X-WR-CALNAME:Best Read Guide Smoky Mountains
X-ORIGINAL-URL:https://bestreadguidesmokymountains.com
X-WR-CALDESC:Events for Best Read Guide Smoky Mountains
REFRESH-INTERVAL;VALUE=DURATION:PT1H
X-Robots-Tag:noindex
X-PUBLISHED-TTL:PT1H
BEGIN:VTIMEZONE
TZID:UTC
BEGIN:STANDARD
TZOFFSETFROM:+0000
TZOFFSETTO:+0000
TZNAME:UTC
DTSTART:20240101T000000
END:STANDARD
END:VTIMEZONE
BEGIN:VEVENT
DTSTART;TZID=UTC:20240810T180000
DTEND;TZID=UTC:20240810T180000
DTSTAMP:20260419T112023
CREATED:20240405T191558Z
LAST-MODIFIED:20240405T191558Z
UID:11682-1723312800-1723312800@bestreadguidesmokymountains.com
SUMMARY:Shine & Dine on Bruce
DESCRIPTION:Join us at the Bruce Street Gazebo in beautiful downtown Sevierville\, Tennessee to enjoy a night of fantastic music with our featured performers\, The Velcro Pygmies. Moonshine cocktails and tastings will be offered from the finest distilleries in Tennessee. A few great food trucks will also be on-hand to round out this Bruce Street favorite. Quickly becoming a beloved tradition for locals and tourists alike\, this Sevierville\, Tennessee event is one you won’t want to miss. Bring a lawn chair\, bring your friends\, and bring your appetite… we can’t wait to see you there!
URL:https://bestreadguidesmokymountains.com/event/shine-dine-on-bruce/
LOCATION:Downtown Sevierville\, Bruce Street\, Sevierville\, TN\, United States
CATEGORIES:Things To Do Sevierville
END:VEVENT
END:VCALENDAR